BEGIN:VCALENDAR
VERSION:2.0
PRODID:-//REHDA Institute - ECPv6.2.3//NONSGML v1.0//EN
CALSCALE:GREGORIAN
METHOD:PUBLISH
X-WR-CALNAME:REHDA Institute
X-ORIGINAL-URL:https://rehdainstitute.com
X-WR-CALDESC:Events for REHDA Institute
REFRESH-INTERVAL;VALUE=DURATION:PT1H
X-Robots-Tag:noindex
X-PUBLISHED-TTL:PT1H
BEGIN:VTIMEZONE
TZID:UTC
BEGIN:STANDARD
TZOFFSETFROM:+0000
TZOFFSETTO:+0000
TZNAME:UTC
DTSTART:20230101T000000
END:STANDARD
END:VTIMEZONE
BEGIN:VEVENT
DTSTART;VALUE=DATE:20231005
DTEND;VALUE=DATE:20231006
DTSTAMP:20260424T000649
CREATED:20230404T075243Z
LAST-MODIFIED:20230404T085039Z
UID:10000038-1696464000-1696550399@rehdainstitute.com
SUMMARY:IBS Factory Tour
DESCRIPTION:IBS FACTORY TOUR – GAMUDA IBS SEPANG\n( 5 Oct 2023 )\n\nStudy tour to IBS factory and IBS developments\n\n—————————————- \nFor more information\, please contact:\nSecretariat | +603-7803 7006 \nFor Sponsorship Opportunities:\nMr. Khairil | 6016 925 8257 |\nksyazwan@rehdainstitute.com
URL:https://rehdainstitute.com/event/ibs-factory-tour/
LOCATION:Wisma Rehda\, No. 2C\, Jalan SS5D/6\, Kelana Jaya\, Petaling Jaya\, Selangor\, 47301\, Malaysia
CATEGORIES:Study Tour
ATTACH;FMTTYPE=image/jpeg:https://rehdainstitute.com/wp-content/uploads/2023/04/event_IBS.jpg
ORGANIZER;CN="REHDA Institute":MAILTO:register@rehdainstitute.com
END:VEVENT
END:VCALENDAR