BEGIN:VCALENDAR
VERSION:2.0
PRODID:-//REHDA Institute - ECPv6.2.3//NONSGML v1.0//EN
CALSCALE:GREGORIAN
METHOD:PUBLISH
X-ORIGINAL-URL:https://rehdainstitute.com
X-WR-CALDESC:Events for REHDA Institute
REFRESH-INTERVAL;VALUE=DURATION:PT1H
X-Robots-Tag:noindex
X-PUBLISHED-TTL:PT1H
BEGIN:VTIMEZONE
TZID:Asia/Shanghai
BEGIN:STANDARD
TZOFFSETFROM:+0800
TZOFFSETTO:+0800
TZNAME:CST
DTSTART:20230101T000000
END:STANDARD
END:VTIMEZONE
BEGIN:VEVENT
DTSTART;VALUE=DATE:20231207
DTEND;VALUE=DATE:20231208
DTSTAMP:20260423T201330
CREATED:20230404T081012Z
LAST-MODIFIED:20231129T051443Z
UID:10000046-1701907200-1701993599@rehdainstitute.com
SUMMARY:CEO Series 2023 : Annual Property Developers Conference
DESCRIPTION:CEO SERIES 2023 : ANNUAL PROPERTY DEVELOPERS CONFERENCE\n(7 Dec 2023)\n\nRegional & Local Property Market Outlook\nCurrent Event/Controversial Issues on Real Estate and Property Development\nNew development ideas for property developers in this challenging market\nIndustry Sharing by Successful ASEAN Developers\nThe digital transformation of the construction\, real estate and property development industry\n\n  \n\nVenue : Le Meridien Petaling Jaya Hotel\, Selangor \n\n  \nFor more information\, please contact:\nSecretariat | +603-7803 7006 \nFor Sponsorship Opportunities:\nMr. Khairil | 6016 925 8257 |\nksyazwan@rehdainstitute.com \n 
URL:https://rehdainstitute.com/event/ceo-series-2023/
CATEGORIES:Conference
ATTACH;FMTTYPE=image/jpeg:https://rehdainstitute.com/wp-content/uploads/2023/04/event_property-conference.jpg
ORGANIZER;CN="REHDA Institute":MAILTO:register@rehdainstitute.com
END:VEVENT
END:VCALENDAR