BEGIN:VCALENDAR
VERSION:2.0
PRODID:-//REHDA Institute - ECPv6.2.3//NONSGML v1.0//EN
CALSCALE:GREGORIAN
METHOD:PUBLISH
X-ORIGINAL-URL:https://rehdainstitute.com
X-WR-CALDESC:Events for REHDA Institute
REFRESH-INTERVAL;VALUE=DURATION:PT1H
X-Robots-Tag:noindex
X-PUBLISHED-TTL:PT1H
BEGIN:VTIMEZONE
TZID:UTC
BEGIN:STANDARD
TZOFFSETFROM:+0000
TZOFFSETTO:+0000
TZNAME:UTC
DTSTART:20230101T000000
END:STANDARD
END:VTIMEZONE
BEGIN:VEVENT
DTSTART;VALUE=DATE:20230905
DTEND;VALUE=DATE:20230906
DTSTAMP:20260424T024854
CREATED:20230404T072814Z
LAST-MODIFIED:20230404T085104Z
UID:10000028-1693872000-1693958399@rehdainstitute.com
SUMMARY:Property Development Process Series Masterclass 2.0
DESCRIPTION:PROPERTY DEVELOPMENT PROCESS SERIES MASTERCLASS 2.0\n( 5\, 7 \, 12\, 14\, 19 & 21 Sept 2023 )\n\nA dissection & hands on training of the overall real estate & property development in Malaysia\nRequirements for Property Development\nMarket Analysis/Needs Assessment;\nProject Viability;\nProject Sustainability\n\n—————————————- \nFor more information\, please contact:\nSecretariat | 03-7803 6006\nFor Sponsorship Opportunities:\nMr. Khairil | 016-925 8257
URL:https://rehdainstitute.com/event/property-development-process-series-masterclass-2-0/2023-09-05/
LOCATION:Wisma Rehda\, No. 2C\, Jalan SS5D/6\, Kelana Jaya\, Petaling Jaya\, Selangor\, 47301\, Malaysia
CATEGORIES:Seminar
ATTACH;FMTTYPE=image/jpeg:https://rehdainstitute.com/wp-content/uploads/2023/04/event_Property-Development02.jpg
ORGANIZER;CN="REHDA Institute":MAILTO:register@rehdainstitute.com
END:VEVENT
END:VCALENDAR