BEGIN:VCALENDAR
VERSION:2.0
PRODID:-//REHDA Institute - ECPv6.2.3//NONSGML v1.0//EN
CALSCALE:GREGORIAN
METHOD:PUBLISH
X-WR-CALNAME:REHDA Institute
X-ORIGINAL-URL:https://rehdainstitute.com
X-WR-CALDESC:Events for REHDA Institute
REFRESH-INTERVAL;VALUE=DURATION:PT1H
X-Robots-Tag:noindex
X-PUBLISHED-TTL:PT1H
BEGIN:VTIMEZONE
TZID:Asia/Shanghai
BEGIN:STANDARD
TZOFFSETFROM:+0800
TZOFFSETTO:+0800
TZNAME:CST
DTSTART:20230101T000000
END:STANDARD
END:VTIMEZONE
BEGIN:VEVENT
DTSTART;VALUE=DATE:20230801
DTEND;VALUE=DATE:20230802
DTSTAMP:20260424T053425
CREATED:20230404T065455Z
LAST-MODIFIED:20230404T085257Z
UID:10000025-1690848000-1690934399@rehdainstitute.com
SUMMARY:Green Build Conference 2023
DESCRIPTION:Green Build Conference 2023\n( 1 August 2023)\n\nBuilding a Case for Green Buildings\nGreen Financing & Sustainability Reporting\nPolicies to Practice-Case Studies (new and proven trends)\nMESTECC Rep\, case studies from Singapore\, Australia\, Hong Kong\, BNM Malaysia\n\n  \n\n  \nFor more information\, please contact:\nSecretariat | +603-7803 7006
URL:https://rehdainstitute.com/event/green-build-conference-2023/
LOCATION:One World Hotel\, City Centre\, First Avenue\, Lebuh Bandar Utama\, Bandar Utama\,\, Petaling Jaya\, Selangor\, 47800\, Malaysia
CATEGORIES:Conference
ATTACH;FMTTYPE=image/jpeg:https://rehdainstitute.com/wp-content/uploads/2023/04/event_conference.jpg
ORGANIZER;CN="REHDA Institute":MAILTO:register@rehdainstitute.com
END:VEVENT
END:VCALENDAR