BEGIN:VCALENDAR
VERSION:2.0
PRODID:-//REHDA Institute - ECPv6.2.3//NONSGML v1.0//EN
CALSCALE:GREGORIAN
METHOD:PUBLISH
X-ORIGINAL-URL:https://rehdainstitute.com
X-WR-CALDESC:Events for REHDA Institute
REFRESH-INTERVAL;VALUE=DURATION:PT1H
X-Robots-Tag:noindex
X-PUBLISHED-TTL:PT1H
BEGIN:VTIMEZONE
TZID:UTC
BEGIN:STANDARD
TZOFFSETFROM:+0000
TZOFFSETTO:+0000
TZNAME:UTC
DTSTART:20230101T000000
END:STANDARD
END:VTIMEZONE
BEGIN:VEVENT
DTSTART;VALUE=DATE:20230606
DTEND;VALUE=DATE:20230610
DTSTAMP:20260424T070852
CREATED:20230404T032758Z
LAST-MODIFIED:20230404T085412Z
UID:10000023-1686009600-1686355199@rehdainstitute.com
SUMMARY:Business Study Trip to Jakarta and Nusantara (New Capital of Indonesia)
DESCRIPTION:ASIA REAL ESTATE LEADERS MASTERCLASS & TOUR\, JAKARTA\n( 6 – 9 June 2023)\nBrief summary of tour (note that some items below are a draft work in progress as a guide only with the finalised sites and arrangements to be confirmed): Aproximately 20 – 30 pax high level delegation of senior management & C-Suites industry leaders from Malaysia & Singapore. \n\nCLICK HERE FOR MORE INFO!\n—————————————- \nFor more information\, please contact:\nSecretariat | +603-7803 7006
URL:https://rehdainstitute.com/event/business-study-trip-to-jakarta-and-nusantara-new-capital-of-indonesia/
LOCATION:Indonesia\, Indonesia
CATEGORIES:Study Tour
ATTACH;FMTTYPE=image/jpeg:https://rehdainstitute.com/wp-content/uploads/2023/04/event_jakarta.jpg
ORGANIZER;CN="REHDA Institute":MAILTO:register@rehdainstitute.com
END:VEVENT
END:VCALENDAR