BEGIN:VCALENDAR
VERSION:2.0
PRODID:-//REHDA Institute - ECPv6.2.3//NONSGML v1.0//EN
CALSCALE:GREGORIAN
METHOD:PUBLISH
X-WR-CALNAME:REHDA Institute
X-ORIGINAL-URL:https://rehdainstitute.com
X-WR-CALDESC:Events for REHDA Institute
REFRESH-INTERVAL;VALUE=DURATION:PT1H
X-Robots-Tag:noindex
X-PUBLISHED-TTL:PT1H
BEGIN:VTIMEZONE
TZID:UTC
BEGIN:STANDARD
TZOFFSETFROM:+0000
TZOFFSETTO:+0000
TZNAME:UTC
DTSTART:20230101T000000
END:STANDARD
END:VTIMEZONE
BEGIN:VEVENT
DTSTART;VALUE=DATE:20230516
DTEND;VALUE=DATE:20230517
DTSTAMP:20260424T084537
CREATED:20230404T022942Z
LAST-MODIFIED:20230404T085443Z
UID:10000036-1684224000-1684256400@rehdainstitute.com
SUMMARY:Property Development Process Series Masterclass
DESCRIPTION:PROPERTY DEVELOPMENT PROCESS SERIES MASTERCLASS\n(9\, 16 & 23 May 2023)\n\nA dissection & hands on training of the overall real estate &\nproperty development in Malaysia\nRequirements for Property Development\nMarket Analysis/Needs Assessment;\nProject Viability;\nProject Sustainability\nResponsibilities/Liabilities etc\n\n\nIntroduction :\nWhether you’re new to property development or looking for a short refresher modelled after the REHDA Property Development Handbook\, this 5-week dissection and hands-on training will provide you with the overall overview of the real estate & property development industry in Malaysia. \n\nCLICK HERE FOR MORE INFO!\n\nREGISTRATION FEES:\nEarly Bird*\nREHDA Member: RM2\,800.00 | Non-Member: RM4\,300.00 \nEarly Bird Group Discount* (2 pax and above)\nREHDA Member: RM2\,300.00 | Non-Member: RM3\,800.00 \nNormal Price*\nREHDA Member: RM3\,800.00 | Non-Member: RM5\,300.00 \nNormal Price Group* (2 pax and above)\nREHDA Member: RM3\,100.00| Non-Member: RM4\,600.00 \n* Early bird discount before 1 April 2023\n—————————————- \nFor more information\, please contact:\nSecretariat | +603-7803 7006 \nFor Delegates Registration:\nMs. Fatihah | 6018 256 6892 |\nregister@rehdainstitute.com \nFor Sponsorship Opportunities:\nMr. Khairil | 6016 925 8257 |\nksyazwan@rehdainstitute.com
URL:https://rehdainstitute.com/event/property-development-process-series-masterclass-2-2/2023-05-16/
LOCATION:Wisma Rehda\, No. 2C\, Jalan SS5D/6\, Kelana Jaya\, Petaling Jaya\, Selangor\, 47301\, Malaysia
CATEGORIES:Seminar
ATTACH;FMTTYPE=image/jpeg:https://rehdainstitute.com/wp-content/uploads/2023/04/event_Property-Development.jpg
ORGANIZER;CN="REHDA Institute":MAILTO:register@rehdainstitute.com
END:VEVENT
END:VCALENDAR