BEGIN:VCALENDAR
VERSION:2.0
PRODID:-//REHDA Institute - ECPv6.2.3//NONSGML v1.0//EN
CALSCALE:GREGORIAN
METHOD:PUBLISH
X-WR-CALNAME:REHDA Institute
X-ORIGINAL-URL:https://rehdainstitute.com
X-WR-CALDESC:Events for REHDA Institute
REFRESH-INTERVAL;VALUE=DURATION:PT1H
X-Robots-Tag:noindex
X-PUBLISHED-TTL:PT1H
BEGIN:VTIMEZONE
TZID:UTC
BEGIN:STANDARD
TZOFFSETFROM:+0000
TZOFFSETTO:+0000
TZNAME:UTC
DTSTART:20230101T000000
END:STANDARD
END:VTIMEZONE
BEGIN:VEVENT
DTSTART;VALUE=DATE:20230502
DTEND;VALUE=DATE:20230505
DTSTAMP:20260424T093826
CREATED:20230403T103428Z
LAST-MODIFIED:20230404T085502Z
UID:10000007-1682985600-1683244799@rehdainstitute.com
SUMMARY:Singapore Business Study Tour
DESCRIPTION:ASIA REAL ESTATE LEADERS MASTERCLASS & TOUR\, SINGAPORE\n( 2 – 4 May 2023)\n\nHDB developments\nConstruction technology\nNetworking dinner talk\n\n  \n\nKEY FOCUS:\nCONSTRUCTION TECHNOLOGY & MANAGEMENT\n(Construction Process Digitalisation \, Building Information Modelling BIM\, Industrialised Building System IBS); \nAWARD WINNING HDB DEVELOPMENTS\n(Site tour/briefing by Architects & HDB); \nSite visits to selected iconic & award winning private & mixed commercial developments\, Transit Oriented Developments TODs; \nSmart city & sustainable urban planning case studies\, net zero energy & smart buildings; \nVIP networking sessions\, Singapore real estate market briefing & networking session with Real Estate and Developers’ Association of Singapore (REDAS). \n\nCLICK HERE FOR MORE INFO!\n\nREGISTRATION FEES:\nEarly Bird*\nREHDA Member: RM2800.00 | Non-Member:  RM3500.00 \nNormal Price*\nREHDA Member: RM3500.00 | Non-Member:  RM4200.00 \n* Early bird discount before 24 March 2023\n—————————————- \nFor more information\, please contact:\nSecretariat | +603-7803 7006 \nFor Delegates Registration:\nMs. Fatihah | 6018 256 6892 |\nregister@rehdainstitute.com \nFor Sponsorship Opportunities:\nMr. Khairil | 6016 925 8257 |\nksyazwan@rehdainstitute.com
URL:https://rehdainstitute.com/event/singapore-business-study-tour/
LOCATION:Singapore\, Singapore
CATEGORIES:Study Tour
ATTACH;FMTTYPE=image/jpeg:https://rehdainstitute.com/wp-content/uploads/2023/04/event_asia.jpg
ORGANIZER;CN="REHDA Institute":MAILTO:register@rehdainstitute.com
END:VEVENT
END:VCALENDAR